BEGIN:VCALENDAR
VERSION:2.0
PRODID:-//Kölner Literaturnacht - ECPv5.16.4//NONSGML v1.0//EN
CALSCALE:GREGORIAN
METHOD:PUBLISH
X-WR-CALNAME:Kölner Literaturnacht
X-ORIGINAL-URL:https://koelner-literaturnacht.de
X-WR-CALDESC:Events for Kölner Literaturnacht
REFRESH-INTERVAL;VALUE=DURATION:PT1H
X-Robots-Tag:noindex
X-PUBLISHED-TTL:PT1H
BEGIN:VTIMEZONE
TZID:Europe/Berlin
BEGIN:DAYLIGHT
TZOFFSETFROM:+0100
TZOFFSETTO:+0200
TZNAME:CEST
DTSTART:20210328T010000
END:DAYLIGHT
BEGIN:STANDARD
TZOFFSETFROM:+0200
TZOFFSETTO:+0100
TZNAME:CET
DTSTART:20211031T010000
END:STANDARD
END:VTIMEZONE
BEGIN:VEVENT
DTSTART;TZID=Europe/Berlin:20210918T170000
DTEND;TZID=Europe/Berlin:20210918T170000
DTSTAMP:20260423T205022
CREATED:20210720T103729Z
LAST-MODIFIED:20210818T220906Z
UID:2022-1631984400-1631984400@koelner-literaturnacht.de
SUMMARY:„TALK MIT K“ – DUMONT AUF SENDUNG
DESCRIPTION:Kölner Stadt-Anzeiger: Live-Podcast mit Carsten Sebastian Henn und Sarah Brasack\, präsentiert vom DuMont Verlag\nFür den Podcast des „Kölner Stadt-Anzeiger“ spricht Sarah Brasack mit dem Autor und Restaurantkritiker Carsten Sebastian Henn über seinen neuen Roman „Rum oder Ehre“ (DuMont Buchverlag)\, seinen Weinberg und was einen guten Drink ausmacht. Der Podcast wird erstmals vor Publikum aufgezeichnet. \nZUM EINZELTICKET
URL:https://koelner-literaturnacht.de/event/talk-mit-k/
LOCATION:Literaturhaus Köln\, Großer Griechenmarkt 39\, Köln\, 50676\, Deutschland
CATEGORIES:Innenstadt
ATTACH;FMTTYPE=image/jpeg:https://koelner-literaturnacht.de/wp-content/uploads/2021/07/Henn-Brasack.jpg
END:VEVENT
BEGIN:VEVENT
DTSTART;TZID=Europe/Berlin:20210918T183000
DTEND;TZID=Europe/Berlin:20210918T183000
DTSTAMP:20260423T205022
CREATED:20210720T103909Z
LAST-MODIFIED:20210818T220945Z
UID:2025-1631989800-1631989800@koelner-literaturnacht.de
SUMMARY:ES WIRD BUNT
DESCRIPTION:Werkstattgespräch mit Nikolaus Heidelbach\, präsentiert von der Buchhandlung Klaus Bittner\nNikolaus Heidelbach wurde 1955 geboren. Er studierte Germanistik und Kunstgeschichte in Köln und Berlin. Heute lebt er als freischaffender Künstler mit seiner Frau und seinen zwei Kindern in Köln. Seit bald 25 Jahren veröffentlicht Heidelbach seine Bücher und gilt als einer der bekanntesten Illustratoren. Neben zahlreichen Bilderbüchern mit eigenen Texten\, Illustrationen zu Kinderbüchern (Nöstlinger: „Der neue Pinocchio“)\, Gedichten (Josef Guggenmos)\, Erzählungen\, den Märchen der Brüder Grimm und H.C. Andersen\, Schulbüchern\, veröffentlichte er auch Bilderbücher für Erwachsene. Außerdem arbeitete er bei den Magazinen „Der Rabe“ und „Der bunte Hund“ mit und zeichnete viele Cover-Illustrationen\, zuletzt für die Artemis-Fowl-Romane. Im Jahre 2000 wurde er für sein Gesamtwerk mit dem Sonderpreis des Deutschen Jugendliteraturpreises ausgezeichnet. \nZUM EINZELTICKET
URL:https://koelner-literaturnacht.de/event/es-wird-bunt/
LOCATION:Literaturhaus Köln\, Großer Griechenmarkt 39\, Köln\, 50676\, Deutschland
CATEGORIES:Innenstadt
ATTACH;FMTTYPE=image/jpeg:https://koelner-literaturnacht.de/wp-content/uploads/2021/07/24_heidelbach.jpeg
END:VEVENT
BEGIN:VEVENT
DTSTART;TZID=Europe/Berlin:20210918T200000
DTEND;TZID=Europe/Berlin:20210918T200000
DTSTAMP:20260423T205022
CREATED:20210720T104021Z
LAST-MODIFIED:20210818T221030Z
UID:2027-1631995200-1631995200@koelner-literaturnacht.de
SUMMARY:Far From Feuilleton: Undergroundcomix
DESCRIPTION:Mit Ralf König & Jacqueline Mundri\, Christian Meyer-Pröpstl moderiert\, präsentiert von Comicszene Köln\nComiczeichner Ralf König grätscht elegant zwischen Mainstream und Nische\, Jacqueline Mundri zeichnet mit Kindern und für Erwachsene. Das Gespräch über Randzonen der Comics moderiert der Comicjournalist Christian Meyer-Pröpstl. \nZUM EINZELTICKET
URL:https://koelner-literaturnacht.de/event/far-from-feuilleton-undergroundcomix/
LOCATION:Literaturhaus Köln\, Großer Griechenmarkt 39\, Köln\, 50676\, Deutschland
CATEGORIES:Innenstadt
ATTACH;FMTTYPE=image/jpeg:https://koelner-literaturnacht.de/wp-content/uploads/2021/07/Koenig-Mundri.jpg
END:VEVENT
BEGIN:VEVENT
DTSTART;TZID=Europe/Berlin:20210918T213000
DTEND;TZID=Europe/Berlin:20210918T213000
DTSTAMP:20260423T205022
CREATED:20210720T104304Z
LAST-MODIFIED:20210818T221123Z
UID:2029-1632000600-1632000600@koelner-literaturnacht.de
SUMMARY:A BEAM SUBLIM – MINIBAR KOMPAKT
DESCRIPTION:18metzger und Leo Leowald lesen und beamen\, Stefanie Schrank macht Musik\, präsentiert von Comicszene Köln\nIn dieser Spezialausgabe von „Minibar – die langsamste Tour der Welt“ lesen und beamen die Zeichner 18metzger (totes meer) und Leo Leowald (Zwarwald) Comicstrips und werden dabei musikalisch sublim unterwandert von Bassstar Stefanie Schrank (Locas in Love). \nZUM EINZELTICKET
URL:https://koelner-literaturnacht.de/event/a-beam-sublim-minibar-kompakt/
LOCATION:Literaturhaus Köln\, Großer Griechenmarkt 39\, Köln\, 50676\, Deutschland
CATEGORIES:Innenstadt
ATTACH;FMTTYPE=image/jpeg:https://koelner-literaturnacht.de/wp-content/uploads/2021/07/Leowald-18metzger-Schrank.jpg
END:VEVENT
END:VCALENDAR