BEGIN:VCALENDAR
VERSION:2.0
PRODID:-//Kölner Literaturnacht - ECPv5.16.4//NONSGML v1.0//EN
CALSCALE:GREGORIAN
METHOD:PUBLISH
X-WR-CALNAME:Kölner Literaturnacht
X-ORIGINAL-URL:https://koelner-literaturnacht.de
X-WR-CALDESC:Events for Kölner Literaturnacht
REFRESH-INTERVAL;VALUE=DURATION:PT1H
X-Robots-Tag:noindex
X-PUBLISHED-TTL:PT1H
BEGIN:VTIMEZONE
TZID:Europe/Berlin
BEGIN:DAYLIGHT
TZOFFSETFROM:+0100
TZOFFSETTO:+0200
TZNAME:CEST
DTSTART:20210328T010000
END:DAYLIGHT
BEGIN:STANDARD
TZOFFSETFROM:+0200
TZOFFSETTO:+0100
TZNAME:CET
DTSTART:20211031T010000
END:STANDARD
END:VTIMEZONE
BEGIN:VEVENT
DTSTART;TZID=Europe/Berlin:20210918T160000
DTEND;TZID=Europe/Berlin:20210918T160000
DTSTAMP:20260423T132102
CREATED:20210720T085307Z
LAST-MODIFIED:20210823T045430Z
UID:1992-1631980800-1631980800@koelner-literaturnacht.de
SUMMARY:INSIDE. INNENSICHTEN\, EINSICHTEN\, EINBLICKE
DESCRIPTION:Autor*innen der Autorengruppe FAUST wagen Einblicke in das Andersartige\, Verborgene\nKönnen Schriftsteller*innen eigentlich über etwas anderes schreiben als über sich selbst? Offensichtlich tun sie es: Kaum ein/e Thrillerautor*in ist selbst Serienkiller*in\, kein/e heutige/r Autor*in hat ja mit Goethe getafelt und auch Karl May ist nie durch die Prärie geritten. Literatur ist der (Nicht-)Ort\, an dem wir fremde Welten betreten\, Einblicke in andere Leben erhalten und neue Perspektiven gewinnen: ein Wagnis für die Schreibenden wie auch für die Lesenden. Autor*innen der Gruppe FAUST wagen Einblicke in das Andersartige\, das Verborgene\, das Verbotene. \nZUM EINZELTICKET
URL:https://koelner-literaturnacht.de/event/inside/
LOCATION:Cinenova Kino & Open-Air\, Herbrandstraße 11\, Köln\, 50825\, Deutschland
CATEGORIES:Ehrenfeld
ATTACH;FMTTYPE=image/jpeg:https://koelner-literaturnacht.de/wp-content/uploads/2021/07/16_FAUST_Juli2021.jpg
END:VEVENT
BEGIN:VEVENT
DTSTART;TZID=Europe/Berlin:20210918T173000
DTEND;TZID=Europe/Berlin:20210918T173000
DTSTAMP:20260423T132102
CREATED:20210720T085543Z
LAST-MODIFIED:20210818T215917Z
UID:1995-1631986200-1631986200@koelner-literaturnacht.de
SUMMARY:INSERT FEMALE ARTIST presents: All You Need Is Radikale Zärtlichkeit
DESCRIPTION:Mit Şeyda Kurt und Svenja Reiner\nWie wollen wir wirklich lieben? Wen und wie viele? Wie kann er aussehen\, ein radikaler Neuentwurf der Liebe? Und wie können Menschen sich gemeinsam gegen die Ismen unserer Gesellschaft behaupten – als Partner*innen\, Familie und Freund*innen? Oder ist Liebe gar unmöglich\, weil wir uns zwischen Zukunftsängsten\, überhöhten Ansprüchen und diskriminierenden Strukturen völlig zerreiben? \nŞeyda Kurt zeigt in ihrem Buch „Radikale Zärtlichkeit – Warum Liebe politisch ist” die Verstrickungen unsere Vorstellungen von Liebe mit Macht und Männlichkeit\, Kolonialismus und Kapitalismus. Gemeinsam mit der Journalistin diskutiert Svenja Reiner (INSERT FEMALE ARTIST) alternative Liebesbeziehungen\, Familie\, Fürsorge und Freund*innenschaft\, und fragt nach einer eigenen Sprache der Zärtlichkeit\, in der wir mit überkommenden Beziehungsmodellen brechen und ein gerechteres Miteinander wagen können. \nZUM EINZELTICKET
URL:https://koelner-literaturnacht.de/event/insert-female-artist-presents-all-you-need-is-radikale-zaertlichkeit/
LOCATION:Cinenova Kino & Open-Air\, Herbrandstraße 11\, Köln\, 50825\, Deutschland
CATEGORIES:Ehrenfeld
ATTACH;FMTTYPE=image/jpeg:https://koelner-literaturnacht.de/wp-content/uploads/2021/07/17_Svenja-Reiner_c-Thomas-Seips.jpg
END:VEVENT
BEGIN:VEVENT
DTSTART;TZID=Europe/Berlin:20210918T190000
DTEND;TZID=Europe/Berlin:20210918T190000
DTSTAMP:20260423T132102
CREATED:20210720T085811Z
LAST-MODIFIED:20210818T215955Z
UID:1997-1631991600-1631991600@koelner-literaturnacht.de
SUMMARY:PRINT IST NICHT TOT\,  RIECHT NUR KOMISCH
DESCRIPTION:Kölner Literaturzeitschriften mit Kamala Dubrovnik\, Susanne Engling\, Philipp-Bo Franke\, Leonie Pfennig\, Kathrin Schuchmann\nWohin man auch sieht: Smartphones\, iPads\, E-Book-Reader. Doch zum Glück sind auch die Printmedien nicht totzukriegen! Gerade junge Autor*innen finden die Plattform für ihre ersten Veröffentlichungen in Literaturzeitschriften – hier kann man ausprobieren\, experimentieren\, Innovationen wagen. \nYannic Han Biao Federer fragt die Herausgeber*innen der vier Kölner Zeitschriften KLiteratur\, KURZE (KHM)\, schliff (Uni Köln) und And She Was Like: BÄM! nach ihrer Motivation\, im digitalen Zeitalter noch analoge Zeitschriften herauszugeben\, dem Suchen und Finden von Autor*innen\, den Unterschieden zwischen unabhängigen und Uni-Zeitschriften und nach vielem mehr. Wie vielfältig die abgedruckten Texte sind? Lesungen verschiedener Autor*innen zeigen es! \nZUM EINZELTICKET
URL:https://koelner-literaturnacht.de/event/print-ist-nicht-tot-riecht-nur-komisch/
LOCATION:Cinenova Kino & Open-Air\, Herbrandstraße 11\, Köln\, 50825\, Deutschland
CATEGORIES:Ehrenfeld
END:VEVENT
BEGIN:VEVENT
DTSTART;TZID=Europe/Berlin:20210918T203000
DTEND;TZID=Europe/Berlin:20210918T203000
DTSTAMP:20260423T132102
CREATED:20210720T090007Z
LAST-MODIFIED:20210818T220040Z
UID:1999-1631997000-1631997000@koelner-literaturnacht.de
SUMMARY:LITERATUR-KLUBBING IM BELGISCHEN VIERTEL
DESCRIPTION:10 Jahre Gäste mit Texten\nDer Literaturklub ist eine monatliche Lesereihe im Theater die wohngemeinschaft und feiert 2020 sein 10-jähriges Jubiläum. Es ist ein Ort\, an dem die Autor*innen als Gäste im Mittelpunkt stehen\, neue Texte vorstellen und von ihrer Arbeit mit Sprache erzählen. Zur Literaturnacht liest Christoph Danne neue Lyrik\, die Übersetzerin Anna Pia Jordan-Bertinelli stellt neue Übersetzungen aus skandinavischen Sprachen vor und Adrian Kasnitz gewährt einen Einblick in die Arbeit an seinem neuen Roman\, den er in Auszügen vorstellt. \nAn der Bar kann man sich vor\, zwischen oder nach den Lesungen mit Getränken erfrischen. \nZUM EINZELTICKET
URL:https://koelner-literaturnacht.de/event/literatur-klubbing-im-belgischen-viertel/
LOCATION:Cinenova Kino & Open-Air\, Herbrandstraße 11\, Köln\, 50825\, Deutschland
CATEGORIES:Ehrenfeld
ATTACH;FMTTYPE=image/jpeg:https://koelner-literaturnacht.de/wp-content/uploads/2021/07/Danne-Jordan-Bertinelli-Kasnitz.jpg
END:VEVENT
BEGIN:VEVENT
DTSTART;TZID=Europe/Berlin:20210918T220000
DTEND;TZID=Europe/Berlin:20210918T220000
DTSTAMP:20260423T132102
CREATED:20210720T100636Z
LAST-MODIFIED:20210818T220135Z
UID:2001-1632002400-1632002400@koelner-literaturnacht.de
SUMMARY:ROHSTOFF
DESCRIPTION:Kollektiv Literarische Differenzen\nJunge Kölner Autor*innen lesen noch unveröffentlichte Romanausschnitte\, Anfänge von etwas Neuem\, Fragmente zu etwas Anderem. \nKurz vorm Durchbruch\, aber von keinem Betrieb gebügelt\, repräsentieren sie den unsigned hype Kölns\, präsentieren den Stoff\, der morgen auf den Markt kommt\, stehen dem Publikum sitzend zur Verfügung. Das Kölner Kollektiv Literarische Differenzen wird in der Literaturnacht vertreten von: Natalie Harapat\, Henrik Hillenbrand\, Leonard Prandini\, Thomas Empl\, Patrik Peyn und Inga Fischer \nZUM EINZELTICKET
URL:https://koelner-literaturnacht.de/event/rohstoff/
LOCATION:Cinenova Kino & Open-Air\, Herbrandstraße 11\, Köln\, 50825\, Deutschland
CATEGORIES:Ehrenfeld
END:VEVENT
END:VCALENDAR