BEGIN:VCALENDAR
VERSION:2.0
PRODID:-//Kölner Literaturnacht - ECPv5.16.4//NONSGML v1.0//EN
CALSCALE:GREGORIAN
METHOD:PUBLISH
X-WR-CALNAME:Kölner Literaturnacht
X-ORIGINAL-URL:https://koelner-literaturnacht.de
X-WR-CALDESC:Events for Kölner Literaturnacht
REFRESH-INTERVAL;VALUE=DURATION:PT1H
X-Robots-Tag:noindex
X-PUBLISHED-TTL:PT1H
BEGIN:VTIMEZONE
TZID:Europe/Berlin
BEGIN:DAYLIGHT
TZOFFSETFROM:+0100
TZOFFSETTO:+0200
TZNAME:CEST
DTSTART:20210328T010000
END:DAYLIGHT
BEGIN:STANDARD
TZOFFSETFROM:+0200
TZOFFSETTO:+0100
TZNAME:CET
DTSTART:20211031T010000
END:STANDARD
END:VTIMEZONE
BEGIN:VEVENT
DTSTART;TZID=Europe/Berlin:20210918T163000
DTEND;TZID=Europe/Berlin:20210918T163000
DTSTAMP:20260425T163721
CREATED:20210720T071413Z
LAST-MODIFIED:20210824T064823Z
UID:1962-1631982600-1631982600@koelner-literaturnacht.de
SUMMARY:WER BIN ICH UND WIE VIELE?
DESCRIPTION:Game Changer von Neal Shusterman\nEinmal Mittelpunkt des Universums sein. Der Traum aller Teenager geht für Ash\, einen weißen Cis-Jungen aus der Mittelschicht\, unvermittelt in Erfüllung – aber ganz anders als erwartet. Und so katapultiert er sich und die Welt in immer neue Dimensionen und Paralleluniversen\, in denen sich die Fragen nach sozialer\, sexueller und ethnischer Identität unvermutet hautnah stellen. Neal Shusterman\, Superstar unter den US-Jugendbuchautoren\, erzählt in seinem Social Thriller der Extraklasse von einer durch und durch ungerechten Welt wie der unseren. \nDie Übersetzer*innen Pauline Kurbasik\, Andreas Helweg und Kristian Lutze\, stellen seinen brandneuen Roman vor. \nLeserechte mit freundlicher Genehmigung von FISCHER Sauerländer\, Frankfurt am Main 2021 \nZUM EINZELTICKET
URL:https://koelner-literaturnacht.de/event/game-changer-neal-shusterman/
LOCATION:Bücherei St. Joseph und St. Norbert\, Dellbrücker Hauptstraße 48\, 51069 Köln\, Deutschland
CATEGORIES:Dellbrück
ATTACH;FMTTYPE=image/jpeg:https://koelner-literaturnacht.de/wp-content/uploads/2021/07/4_Cover_Shusterman.jpg
END:VEVENT
BEGIN:VEVENT
DTSTART;TZID=Europe/Berlin:20210918T180000
DTEND;TZID=Europe/Berlin:20210918T180000
DTSTAMP:20260425T163721
CREATED:20210404T083943Z
LAST-MODIFIED:20210818T213456Z
UID:1421-1631988000-1631988000@koelner-literaturnacht.de
SUMMARY:BLUMENSPIEL. VON CÖLN AM RHEIN ZUM MONTE VERITÀ
DESCRIPTION:Lesung mit Hajo Steinert\nMit einem Strohhut auf dem Kopf und seinem Hammer im Rucksack verlässt der junge Kunstschmied Heinrich 1908 das heimatliche Bergische Land. In Cöln am Rhein\, so hat er gehört\, werden tüchtige Männer gesucht. Doch die Stadt\, in der es kreischt und kracht\, hupt und dröhnt\, schüchtert ihn ein. Trotz der Warnung seiner Vermieterin Else lässt er sich durch Straßen und Gassen treiben. Alles ändert sich\, als er die wunderschöne\, flatterhafte und doch selbstbewusste Näherin Hedwig kennenlernt. Heinrich träumt von einer gemeinsamen Zukunft. Doch Hedwig hat andere Pläne. Sie hat von einem Berg gehört\, auf dem es sich so frei leben lasse wie nirgends sonst\, dem Monte Verità. \nIn seinem Roman „Blumenspiel“ begibt sich Hajo Steinert auf einen langen Weg zum kurzen Glück. \nZUM EINZELTICKET
URL:https://koelner-literaturnacht.de/event/blumenspiel/
LOCATION:Bücherei St. Joseph und St. Norbert\, Dellbrücker Hauptstraße 48\, 51069 Köln\, Deutschland
CATEGORIES:Dellbrück
ATTACH;FMTTYPE=image/jpeg:https://koelner-literaturnacht.de/wp-content/uploads/2021/04/5_Hajo-Steinert-c-privat.jpg
END:VEVENT
BEGIN:VEVENT
DTSTART;TZID=Europe/Berlin:20210918T193000
DTEND;TZID=Europe/Berlin:20210918T193000
DTSTAMP:20260425T163721
CREATED:20210720T082405Z
LAST-MODIFIED:20210906T102312Z
UID:1964-1631993400-1631993400@koelner-literaturnacht.de
SUMMARY:FEUER IM ELYSIUM. EIN BEETHOVEN-KRIMINALROMAN
DESCRIPTION:Der Kriminalroman zum 250. Geburtstag von Ludwig van Beethoven\nDie Geschichte über einen Spion wider Willen\, der das Rätsel um Beethovens Taubheit zu ergründen sucht\, lässt die Uraufführung von dessen bekanntestem Werk vor dem Hintergrund politischer Unruhen wiederaufleben. Denn die Aufführung ist umstritten – nicht nur bei Musikenthusiasten\, sondern auch bei den verbotenen Burschenschaften. Musikjournalist und Krimiautor Oliver Buslau widmet dem überragenden Tondichter einen Roman\, in dessen Zentrum die Geheimnisse der letzten vollendeten Sinfonie stehen. \nEine Veranstaltung der Emons Verlag GmbH. \nZUM EINZELTICKET
URL:https://koelner-literaturnacht.de/event/feuer-im-elysium/
LOCATION:Bücherei St. Joseph und St. Norbert\, Dellbrücker Hauptstraße 48\, 51069 Köln\, Deutschland
CATEGORIES:Dellbrück
ATTACH;FMTTYPE=image/jpeg:https://koelner-literaturnacht.de/wp-content/uploads/2021/07/6_Oliver-Buslau_c-Susanne-Prothmann.jpg
END:VEVENT
END:VCALENDAR