BEGIN:VCALENDAR
VERSION:2.0
PRODID:-//Kölner Literaturnacht - ECPv5.16.4//NONSGML v1.0//EN
CALSCALE:GREGORIAN
METHOD:PUBLISH
X-WR-CALNAME:Kölner Literaturnacht
X-ORIGINAL-URL:https://koelner-literaturnacht.de
X-WR-CALDESC:Events for Kölner Literaturnacht
REFRESH-INTERVAL;VALUE=DURATION:PT1H
X-Robots-Tag:noindex
X-PUBLISHED-TTL:PT1H
BEGIN:VTIMEZONE
TZID:Europe/Berlin
BEGIN:DAYLIGHT
TZOFFSETFROM:+0100
TZOFFSETTO:+0200
TZNAME:CEST
DTSTART:20210328T010000
END:DAYLIGHT
BEGIN:STANDARD
TZOFFSETFROM:+0200
TZOFFSETTO:+0100
TZNAME:CET
DTSTART:20211031T010000
END:STANDARD
END:VTIMEZONE
BEGIN:VEVENT
DTSTART;TZID=Europe/Berlin:20210918T220000
DTEND;TZID=Europe/Berlin:20210918T220000
DTSTAMP:20260423T194253
CREATED:20210720T084923Z
LAST-MODIFIED:20210831T064506Z
UID:1988-1632002400-1632002400@koelner-literaturnacht.de
SUMMARY:SACKGASSEN DES SCHEITERNS
DESCRIPTION:Literarische FuckUp Night\nBücherschreiben ist schrecklich schwer. Sprache\, Handlung\, Verlagsvertrag: An jeder Kreuzung kann das Projekt liegenbleiben. Die FuckUp Night fragt etablierte Kölner Autor*innen nach missglückten Texten – ist doch die Einbahnstraße zum Erfolg viel langweiliger\, als es die verwilderten Sackgassen des Scheiterns sind! \nSelim Özdogan veröffentlichte zuletzt den hochgelobten Krimi „Der die Träume hört“ (Edition Nautilus) – und erzählt nun von seinem Beinahe-Debüt „Sackgesichtiger Psychopath“. Husch Josten wurde jüngst bejubelt für „Land sehen“ (PIPER) – und verknüpft in „Elizas Prognose“ ein historisches Computerprogramm mit derart dezenter Geschichte\, dass die Urheberin vor rasender Scham nur in verteilten Rollen lesen möchte. \nAn der Moderation scheitern leidenschaftlich: Yannic Han\, Biao Federer und Tilman Strasser. \nZUM EINZELTICKET
URL:https://koelner-literaturnacht.de/event/sackgassen-des-scheiterns/
LOCATION:artheater\, Ehrenfeldgürtel 127\, Köln\, 50823\, Deutschland
CATEGORIES:Ehrenfeld
ATTACH;FMTTYPE=image/jpeg:https://koelner-literaturnacht.de/wp-content/uploads/2021/07/15__Selim-Oezdogan-2-Copyright-Lucie-Ella.jpg
END:VEVENT
END:VCALENDAR