BEGIN:VCALENDAR
VERSION:2.0
PRODID:-//Kölner Literaturnacht - ECPv5.16.4//NONSGML v1.0//EN
CALSCALE:GREGORIAN
METHOD:PUBLISH
X-WR-CALNAME:Kölner Literaturnacht
X-ORIGINAL-URL:https://koelner-literaturnacht.de
X-WR-CALDESC:Events for Kölner Literaturnacht
REFRESH-INTERVAL;VALUE=DURATION:PT1H
X-Robots-Tag:noindex
X-PUBLISHED-TTL:PT1H
BEGIN:VTIMEZONE
TZID:Europe/Berlin
BEGIN:DAYLIGHT
TZOFFSETFROM:+0100
TZOFFSETTO:+0200
TZNAME:CEST
DTSTART:20210328T010000
END:DAYLIGHT
BEGIN:STANDARD
TZOFFSETFROM:+0200
TZOFFSETTO:+0100
TZNAME:CET
DTSTART:20211031T010000
END:STANDARD
END:VTIMEZONE
BEGIN:VEVENT
DTSTART;TZID=Europe/Berlin:20210918T173000
DTEND;TZID=Europe/Berlin:20210918T173000
DTSTAMP:20260423T194026
CREATED:20210720T084155Z
LAST-MODIFIED:20210818T215333Z
UID:1982-1631986200-1631986200@koelner-literaturnacht.de
SUMMARY:LAND IN SICHT
DESCRIPTION:Mit Özlem Özgül Dündar\, Alexander Estis\, André Patten und Lea Sauer\, präsentiert von LAND IN SICHT Verein für Literaturförderung\nDie Lesereihe LAND IN SICHT ist zu Gast bei der Kölner Literaturnacht und bringt vier Autor:innen mit. Özlem Özgül Dündar\, Alexander Estis\, André Patten und Lea Sauer lesen Erzählendes\, Lyrisches und vielleicht auch etwas Dramatisches aus ihren aktuellen Büchern und Schreibprojekten. \nEine Veranstaltung des LAND IN SICHT Vereins für Literaturförderung \nZUM EINZELTICKET
URL:https://koelner-literaturnacht.de/event/land-in-sicht/
LOCATION:artheater\, Ehrenfeldgürtel 127\, Köln\, 50823\, Deutschland
CATEGORIES:Ehrenfeld
ATTACH;FMTTYPE=image/jpeg:https://koelner-literaturnacht.de/wp-content/uploads/2021/07/Duendar-Estis-Patten-Sauer.jpg
END:VEVENT
END:VCALENDAR