BEGIN:VCALENDAR
VERSION:2.0
PRODID:-//Kölner Literaturnacht - ECPv5.16.4//NONSGML v1.0//EN
CALSCALE:GREGORIAN
METHOD:PUBLISH
X-WR-CALNAME:Kölner Literaturnacht
X-ORIGINAL-URL:https://koelner-literaturnacht.de
X-WR-CALDESC:Events for Kölner Literaturnacht
REFRESH-INTERVAL;VALUE=DURATION:PT1H
X-Robots-Tag:noindex
X-PUBLISHED-TTL:PT1H
BEGIN:VTIMEZONE
TZID:Europe/Berlin
BEGIN:DAYLIGHT
TZOFFSETFROM:+0100
TZOFFSETTO:+0200
TZNAME:CEST
DTSTART:20210328T010000
END:DAYLIGHT
BEGIN:STANDARD
TZOFFSETFROM:+0200
TZOFFSETTO:+0100
TZNAME:CET
DTSTART:20211031T010000
END:STANDARD
END:VTIMEZONE
BEGIN:VEVENT
DTSTART;TZID=Europe/Berlin:20210918T173000
DTEND;TZID=Europe/Berlin:20210918T173000
DTSTAMP:20260423T210234
CREATED:20210720T112536Z
LAST-MODIFIED:20210818T222533Z
UID:2082-1631986200-1631986200@koelner-literaturnacht.de
SUMMARY:Die Geschichte einer unerhörten Frau
DESCRIPTION:Mit Hannelore Hippe\, präsentiert von der Buchhandlung Olitzky\nGastgeber Buchhandlung Olitzky: Hanne Hippe\, Die Geschichte einer unerhörten Frau\nGoldmann. 433 Seiten\, 20.00 € \nGussy Fink führt ein Leben\, wie man es in den 50er Jahren erwartet. Perfekte Ehefrau\, zwei wohlgeratene Kinder. Als sie von den dubiosen Geschäften ihres Mannes erfährt\, trifft sie eine unerhörte Entscheidung. Sie trennt sich von ihm und zieht mit den Kindern nach Köln. Wie die eigentlich schüchterne Gussy für sich und ihre Kinder ein selbstbestimmtes Leben in konservativ-katholischer Umgebung erkämpft\, erzählt Hanne Hippe in ihrem neuen teilweise autobiografischen Roman nicht ohne Humor. \nHanne Hippe schreibt unter ihrem Pseudonym Hannah O’Brien eine erfolgreiche Irland-Krimireihe. \nZUM EINZELTICKET
URL:https://koelner-literaturnacht.de/event/die-geschichte-einer-unerhoerten-frau/
LOCATION:COMEDIA Theater\, Vondelstraße 4–8\, Köln\, 50677\, Deutschland
CATEGORIES:Südstadt
ATTACH;FMTTYPE=image/jpeg:https://koelner-literaturnacht.de/wp-content/uploads/2021/07/43_Hannelore-Hippe_-Portraet.jpg
END:VEVENT
END:VCALENDAR