BEGIN:VCALENDAR
VERSION:2.0
PRODID:-//Kölner Literaturnacht - ECPv5.16.4//NONSGML v1.0//EN
CALSCALE:GREGORIAN
METHOD:PUBLISH
X-ORIGINAL-URL:https://koelner-literaturnacht.de
X-WR-CALDESC:Events for Kölner Literaturnacht
REFRESH-INTERVAL;VALUE=DURATION:PT1H
X-Robots-Tag:noindex
X-PUBLISHED-TTL:PT1H
BEGIN:VTIMEZONE
TZID:Europe/Berlin
BEGIN:DAYLIGHT
TZOFFSETFROM:+0100
TZOFFSETTO:+0200
TZNAME:CEST
DTSTART:20210328T010000
END:DAYLIGHT
BEGIN:STANDARD
TZOFFSETFROM:+0200
TZOFFSETTO:+0100
TZNAME:CET
DTSTART:20211031T010000
END:STANDARD
END:VTIMEZONE
BEGIN:VEVENT
DTSTART;TZID=Europe/Berlin:20210918T160000
DTEND;TZID=Europe/Berlin:20210918T160000
DTSTAMP:20260421T194459
CREATED:20210720T110943Z
LAST-MODIFIED:20210906T102234Z
UID:2066-1631980800-1631980800@koelner-literaturnacht.de
SUMMARY:DIE KUNST ZU LESEN
DESCRIPTION:Mit Frank Berzbach\, Moderation: Michael Schikowski\, in Kooperation mit dem Eichborn Verlag\nLesend reisen wir vom fernen Japan bis in die hessische Provinz. Lesend fühlen wir uns in andere Menschen ein. Lesend treten wir in Resonanz mit der Welt. \nIn diesem Literaturverführer begleiten wir Frank Berzbach durch die Lektüren\, die ihn geprägt haben. Und wir ertappen uns auf jeder Seite dabei\, selbst ins Schwelgen\, Erinnern und Sehnen zu kommen.\nFrei von Bildungsdünkel\, faszinierend und mitreißend\, entführt uns Frank Berzbach in die magische Welt der Bücher und Büchermenschen. Ein Buch zum Selbstlesen und Verschenken. \nBuchpräsentation mit Gesang und Gitarre: Nina Kummetz \nZUM EINZELTICKET
URL:https://koelner-literaturnacht.de/event/die-kunst-des-lesens/
LOCATION:Et Kapellche\, Holsteinstraße 1\, Köln\, 51065\, Deutschland
CATEGORIES:Mülheim
ATTACH;FMTTYPE=image/jpeg:https://koelner-literaturnacht.de/wp-content/uploads/2021/07/37_Frank-Berzbach-c-Jenny-Bartsch.jpg
END:VEVENT
END:VCALENDAR