BEGIN:VCALENDAR
VERSION:2.0
PRODID:-//Kölner Literaturnacht - ECPv5.16.4//NONSGML v1.0//EN
CALSCALE:GREGORIAN
METHOD:PUBLISH
X-ORIGINAL-URL:https://koelner-literaturnacht.de
X-WR-CALDESC:Events for Kölner Literaturnacht
REFRESH-INTERVAL;VALUE=DURATION:PT1H
X-Robots-Tag:noindex
X-PUBLISHED-TTL:PT1H
BEGIN:VTIMEZONE
TZID:Europe/Berlin
BEGIN:DAYLIGHT
TZOFFSETFROM:+0100
TZOFFSETTO:+0200
TZNAME:CEST
DTSTART:20210328T010000
END:DAYLIGHT
BEGIN:STANDARD
TZOFFSETFROM:+0200
TZOFFSETTO:+0100
TZNAME:CET
DTSTART:20211031T010000
END:STANDARD
END:VTIMEZONE
BEGIN:VEVENT
DTSTART;TZID=Europe/Berlin:20210918T173000
DTEND;TZID=Europe/Berlin:20210918T173000
DTSTAMP:20260425T151553
CREATED:20210720T113544Z
LAST-MODIFIED:20210818T222913Z
UID:2093-1631986200-1631986200@koelner-literaturnacht.de
SUMMARY:MEIN ONKEL\, DEN DER WIND MITNAHM
DESCRIPTION:Lesung von Bachtyar Ali\, Moderation: Ulla Egbringhoff\, präsentiert vom Kunstsalon e. V.\nBachtyar Ali ist einer der bekanntesten zeitgenössischen Schriftsteller des autonomen irakischen Kurdistan\, der schon lange in seiner Heimat und mittlerweile auch in Deutschland Kultstatus genießt. Er wurde 1966 in Sulaimaniya (Nordirak) geboren. 1983 geriet er durch sein Engagement in den Studentenprotesten in Konflikt mit der Diktatur Saddam Husseins. Er brach sein Geologiestudium ab\, um sich ganz der Poesie zu widmen.  \nWir stellen den in Köln lebenden Autor mit seinem aktuellen Roman „Mein Onkel\, den der Wind mitnahm“ (Unionsverlag) vor. Er sagte einmal „Ich existiere nur\, wo meine Sprache Flügel hat“ – Wir sprechen mit ihm über die Magie des Erzählens\, über die Kraft der Poesie und wie befreiend diese in einer von Krieg und Fanatismus geprägten Umgebung wirken können. Die Texte werden von Janina Sachau gelesen. \nZUM EINZELTICKET
URL:https://koelner-literaturnacht.de/event/mein-onkel-den-der-wind-mitnahm/
LOCATION:COMEDIA Theater\, Vondelstraße 4–8\, Köln\, 50677\, Deutschland
CATEGORIES:Südstadt
ATTACH;FMTTYPE=image/jpeg:https://koelner-literaturnacht.de/wp-content/uploads/2021/07/48_AliBachtyar_c-Karim-Khassra.jpg
END:VEVENT
END:VCALENDAR