BEGIN:VCALENDAR
VERSION:2.0
PRODID:-//Kölner Literaturnacht - ECPv5.16.4//NONSGML v1.0//EN
CALSCALE:GREGORIAN
METHOD:PUBLISH
X-ORIGINAL-URL:https://koelner-literaturnacht.de
X-WR-CALDESC:Events for Kölner Literaturnacht
REFRESH-INTERVAL;VALUE=DURATION:PT1H
X-Robots-Tag:noindex
X-PUBLISHED-TTL:PT1H
BEGIN:VTIMEZONE
TZID:Europe/Berlin
BEGIN:DAYLIGHT
TZOFFSETFROM:+0100
TZOFFSETTO:+0200
TZNAME:CEST
DTSTART:20210328T010000
END:DAYLIGHT
BEGIN:STANDARD
TZOFFSETFROM:+0200
TZOFFSETTO:+0100
TZNAME:CET
DTSTART:20211031T010000
END:STANDARD
END:VTIMEZONE
BEGIN:VEVENT
DTSTART;TZID=Europe/Berlin:20210918T213000
DTEND;TZID=Europe/Berlin:20210918T213000
DTSTAMP:20260423T223522
CREATED:20210720T104304Z
LAST-MODIFIED:20210818T221123Z
UID:2029-1632000600-1632000600@koelner-literaturnacht.de
SUMMARY:A BEAM SUBLIM – MINIBAR KOMPAKT
DESCRIPTION:18metzger und Leo Leowald lesen und beamen\, Stefanie Schrank macht Musik\, präsentiert von Comicszene Köln\nIn dieser Spezialausgabe von „Minibar – die langsamste Tour der Welt“ lesen und beamen die Zeichner 18metzger (totes meer) und Leo Leowald (Zwarwald) Comicstrips und werden dabei musikalisch sublim unterwandert von Bassstar Stefanie Schrank (Locas in Love). \nZUM EINZELTICKET
URL:https://koelner-literaturnacht.de/event/a-beam-sublim-minibar-kompakt/
LOCATION:Literaturhaus Köln\, Großer Griechenmarkt 39\, Köln\, 50676\, Deutschland
CATEGORIES:Innenstadt
ATTACH;FMTTYPE=image/jpeg:https://koelner-literaturnacht.de/wp-content/uploads/2021/07/Leowald-18metzger-Schrank.jpg
END:VEVENT
END:VCALENDAR